BEGIN:VCALENDAR
VERSION:2.0
CALSCALE:GREGORIAN
PRODID:adamgibbons/ics
METHOD:PUBLISH
X-PUBLISHED-TTL:PT1H
BEGIN:VEVENT
UID:IzbcKOGiazAfKVaZiv-eI
SUMMARY:Q3 Interim Report January – September 2026
DTSTAMP:20260421T231009Z
DTSTART:20261119T165700Z
DTEND:20261119T165700Z
END:VEVENT
END:VCALENDAR
