BEGIN:VCALENDAR
VERSION:2.0
CALSCALE:GREGORIAN
PRODID:adamgibbons/ics
METHOD:PUBLISH
X-PUBLISHED-TTL:PT1H
BEGIN:VEVENT
UID:qTMXLi11uKwrGg-iGC6Qm
SUMMARY:Q2 Interim Report January – June 2026
DTSTAMP:20260421T172153Z
DTSTART:20260821T155700Z
DTEND:20260821T155700Z
END:VEVENT
END:VCALENDAR
