BEGIN:VCALENDAR
VERSION:2.0
CALSCALE:GREGORIAN
PRODID:adamgibbons/ics
METHOD:PUBLISH
X-PUBLISHED-TTL:PT1H
BEGIN:VEVENT
UID:1aBIawfp3Bu_Ez5SfTAhA
SUMMARY:Q1 Interim Report January – March 2026
DTSTAMP:20260421T172148Z
DTSTART:20260522T155600Z
DTEND:20260522T155600Z
END:VEVENT
END:VCALENDAR
