BEGIN:VCALENDAR
VERSION:2.0
CALSCALE:GREGORIAN
PRODID:adamgibbons/ics
METHOD:PUBLISH
X-PUBLISHED-TTL:PT1H
BEGIN:VEVENT
UID:CnipD9Zu4MEdxETAEo9PH
SUMMARY:Annual Report 2025 - 6 May 2026
DTSTAMP:20260421T231002Z
DTSTART:20260506T145900Z
DTEND:20260506T145900Z
END:VEVENT
END:VCALENDAR
