BEGIN:VCALENDAR
VERSION:2.0
CALSCALE:GREGORIAN
PRODID:adamgibbons/ics
METHOD:PUBLISH
X-PUBLISHED-TTL:PT1H
BEGIN:VEVENT
UID:WdggG4D151tc0lwaERzHd
SUMMARY:Annual General Meeting – 10 June 2026
DTSTAMP:20260421T231142Z
DTSTART:20260610T143200Z
DTEND:20260610T143200Z
END:VEVENT
END:VCALENDAR
